BEGIN:VCALENDAR
VERSION:2.0
PRODID:-//Contratero//ES
CALSCALE:GREGORIAN
METHOD:PUBLISH
BEGIN:VEVENT
UID:SUM 04/2026-ASS@contratero.es
DTSTAMP:20260420T030531Z
DTSTART:20260116T235959
DTEND:20260117T005959
SUMMARY:Cierre: Suministro de licencias del software Creative Clou
DESCRIPTION:Suministro de licencias del software Creative Cloud All App o equivalente para el Ayuntamiento de Calp (Alicante)\\n\\nOrganismo: Alcaldía del Ajuntament de Calp\\n\\nVer en Contratero: https://contratero.es/contracts/SUM 04/2026-ASS
URL:https://contratero.es/contracts/SUM 04/2026-ASS
STATUS:CONFIRMED
BEGIN:VALARM
TRIGGER:-P1D
ACTION:DISPLAY
DESCRIPTION:Recordatorio: Suministro de licencias del so
END:VALARM
END:VEVENT
END:VCALENDAR